BEGIN:VCALENDAR
VERSION:2.0
PRODID:-//Jenni Brandon - ECPv6.15.20//NONSGML v1.0//EN
CALSCALE:GREGORIAN
METHOD:PUBLISH
X-WR-CALNAME:Jenni Brandon
X-ORIGINAL-URL:https://jennibrandon.com
X-WR-CALDESC:Events for Jenni Brandon
REFRESH-INTERVAL;VALUE=DURATION:PT1H
X-Robots-Tag:noindex
X-PUBLISHED-TTL:PT1H
BEGIN:VTIMEZONE
TZID:America/New_York
BEGIN:DAYLIGHT
TZOFFSETFROM:-0500
TZOFFSETTO:-0400
TZNAME:EDT
DTSTART:20250309T070000
END:DAYLIGHT
BEGIN:STANDARD
TZOFFSETFROM:-0400
TZOFFSETTO:-0500
TZNAME:EST
DTSTART:20251102T060000
END:STANDARD
BEGIN:DAYLIGHT
TZOFFSETFROM:-0500
TZOFFSETTO:-0400
TZNAME:EDT
DTSTART:20260308T070000
END:DAYLIGHT
BEGIN:STANDARD
TZOFFSETFROM:-0400
TZOFFSETTO:-0500
TZNAME:EST
DTSTART:20261101T060000
END:STANDARD
BEGIN:DAYLIGHT
TZOFFSETFROM:-0500
TZOFFSETTO:-0400
TZNAME:EDT
DTSTART:20270314T070000
END:DAYLIGHT
BEGIN:STANDARD
TZOFFSETFROM:-0400
TZOFFSETTO:-0500
TZNAME:EST
DTSTART:20271107T060000
END:STANDARD
END:VTIMEZONE
BEGIN:VEVENT
DTSTART;TZID=America/New_York:20260307T120000
DTEND;TZID=America/New_York:20260307T130000
DTSTAMP:20260419T223459
CREATED:20260302T172125Z
LAST-MODIFIED:20260302T172125Z
UID:22944-1772884800-1772888400@jennibrandon.com
SUMMARY:Ahead of All Parting performed at Indiana University March 7
DESCRIPTION:Ahead of All Parting  for Mezzo-Soprano\, Bassoon\, and Piano is performed by doctoral bassoon student Andrew Lamoureux at Indianna University Jacobs School of Music. \nSaturday\, March 7\, 2026\n12 pm EST\nLIVESTREAM: Indiana University Jacobs School of Music Livestream \nAhead of All Parting explores the emotions of life\, death\, and what lies beyond as told through the lush sounds of the harp and the dark\, sonorous qualities of the mezzo-soprano and bassoon. With some simple staging\, this dramatic work calls upon the words of Rilke and E.E. Cummings to wrap the audience in the world of the here and beyond.
URL:https://jennibrandon.com/event/ahead-of-all-parting-performed-at-indiana-university-march-7/
LOCATION:Indiana University Jacobs School of Music
ATTACH;FMTTYPE=image/jpeg:https://jennibrandon.com/wp-content/uploads/2020/02/Ahead-Of-All-Parting-COVER-e1658340358974.jpg
END:VEVENT
END:VCALENDAR